1.000000
0.000000
0.000000
-1.000000
593039.500000
4780159.500000
