1.000000
0.000000
0.000000
-1.000000
606589.500000
4780369.500000
