1.000000
0.000000
0.000000
-1.000000
613509.500000
4771239.500000
