1.000000
0.000000
0.000000
-1.000000
647529.500000
4767289.500000
