1.000000
0.000000
0.000000
-1.000000
654319.500000
4767449.500000
