1.000000
0.000000
0.000000
-1.000000
633769.500000
4776249.500000
