1.000000
0.000000
0.000000
-1.000000
640549.500000
4776399.500000
