1.000000
0.000000
0.000000
-1.000000
620379.500000
4766729.500000
