1.000000
0.000000
0.000000
-1.000000
627169.500000
4766859.500000
