1.000000
0.000000
0.000000
-1.000000
633949.500000
4766999.500000
