2.500000
0.000000
0.000000
-2.500000
552528.750000
4761238.750000
