2.500000
0.000000
0.000000
-2.500000
566118.750000
4761388.750000
