2.500000
0.000000
0.000000
-2.500000
579808.750000
4752308.750000
