2.500000
0.000000
0.000000
-2.500000
606868.750000
4761988.750000
