2.500000
0.000000
0.000000
-2.500000
661428.750000
4753898.750000
