2.500000
0.000000
0.000000
-2.500000
552748.750000
4733478.750000
