2.500000
0.000000
0.000000
-2.500000
648228.750000
4735058.750000
