2.500000
0.000000
0.000000
-2.500000
661868.750000
4735398.750000
