2.500000
0.000000
0.000000
-2.500000
675268.750000
4745008.750000
