2.500000
0.000000
0.000000
-2.500000
580128.750000
4724548.750000
