2.500000
0.000000
0.000000
-2.500000
566568.750000
4715118.750000
