2.500000
0.000000
0.000000
-2.500000
634768.750000
4725498.750000
