2.500000
0.000000
0.000000
-2.500000
648428.750000
4725808.750000
