2.500000
0.000000
0.000000
-2.500000
553028.750000
4696468.750000
