2.500000
0.000000
0.000000
-2.500000
566648.750000
4705868.750000
