2.500000
0.000000
0.000000
-2.500000
607878.750000
4697208.750000
