2.500000
0.000000
0.000000
-2.500000
594418.750000
4678478.750000
