2.500000
0.000000
0.000000
-2.500000
608728.750000
4641698.750000
