2.500000
0.000000
0.000000
-2.500000
622558.750000
4641948.750000
