2.500000
0.000000
0.000000
-2.500000
592908.750000
4789518.750000
