2.500000
0.000000
0.000000
-2.500000
606438.750000
4789748.750000
