2.500000
0.000000
0.000000
-2.500000
606728.750000
4771238.750000
