2.500000
0.000000
0.000000
-2.500000
633858.750000
4771768.750000
