2.5
0
0
-2.5
661156.341053982
4763132.90256405
