2.5
0
0
-2.5
593590.535614622
4734041.44969595
