2.5
0
0
-2.5
607849.113025168
4697241.47101032
