2.5
0
0
-2.5
594394.284370448
4678524.42487811
