2.5
0
0
-2.5
580751.144126981
4669087.19157408
