2.5
0
0
-2.5
580865.818101097
4659834.95329878
