2.5
0
0
-2.5
592641.709821693
4798818.99569772
