2.5
0
0
-2.5
606625.873023086
4771268.45902736
