0.5
0
0
-0.5
600354.327284407
4747749.64720924
