1
0
0
-1
600444.170102533
4738580.22817403
