0.5
0
0
-0.5
562935.565771066
4744982.7920223
