0.5
0
0
-0.5
569672.981730129
4751990.33003371
