0.5
0
0
-0.5
566294.562702209
4749642.41354131
