0.5
0
0
-0.5
569721.162203319
4747363.4409688
