0.5
0
0
-0.5
579959.719201456
4745163.51845311
