0.5
0
0
-0.5
590174.274353146
4745292.20180121
