0.5
0
0
-0.5
603580.284604974
4759368.2351678
